BEGIN:VCALENDAR
VERSION:2.0
PRODID:icalendar-ruby
CALSCALE:GREGORIAN
METHOD:PUBLISH
BEGIN:VEVENT
DTSTAMP:20260423T131338Z
UID:87b9d541-591f-413c-8b91-d6d929f627b3
DTSTART:20260523T000000
DTEND:20260523T235900
CLASS:PUBLIC
CREATED:20260109T144606
DESCRIPTION:The Dojo is closed for the Memorial Day Weekend
LAST-MODIFIED:20260109T144606
LOCATION:Takahashi Dojo
SUMMARY:Takahashi Dojo Closed - Memorial Day Weekend
URL:http://www.takahashidojo.com/events/164
END:VEVENT
END:VCALENDAR
